BEGIN:VCALENDAR
VERSION:2.0
PRODID:-//Amie Mignatti - ECPv6.15.20//NONSGML v1.0//EN
CALSCALE:GREGORIAN
METHOD:PUBLISH
X-WR-CALNAME:Amie Mignatti
X-ORIGINAL-URL:https://www.amiemignatti.com
X-WR-CALDESC:Events for Amie Mignatti
REFRESH-INTERVAL;VALUE=DURATION:PT1H
X-Robots-Tag:noindex
X-PUBLISHED-TTL:PT1H
BEGIN:VTIMEZONE
TZID:Europe/Berlin
BEGIN:DAYLIGHT
TZOFFSETFROM:+0100
TZOFFSETTO:+0200
TZNAME:CEST
DTSTART:20240331T010000
END:DAYLIGHT
BEGIN:STANDARD
TZOFFSETFROM:+0200
TZOFFSETTO:+0100
TZNAME:CET
DTSTART:20241027T010000
END:STANDARD
BEGIN:DAYLIGHT
TZOFFSETFROM:+0100
TZOFFSETTO:+0200
TZNAME:CEST
DTSTART:20250330T010000
END:DAYLIGHT
BEGIN:STANDARD
TZOFFSETFROM:+0200
TZOFFSETTO:+0100
TZNAME:CET
DTSTART:20251026T010000
END:STANDARD
BEGIN:DAYLIGHT
TZOFFSETFROM:+0100
TZOFFSETTO:+0200
TZNAME:CEST
DTSTART:20260329T010000
END:DAYLIGHT
BEGIN:STANDARD
TZOFFSETFROM:+0200
TZOFFSETTO:+0100
TZNAME:CET
DTSTART:20261025T010000
END:STANDARD
END:VTIMEZONE
BEGIN:VEVENT
DTSTART;TZID=Europe/Berlin:20251016T150000
DTEND;TZID=Europe/Berlin:20251019T160000
DTSTAMP:20260423T140032
CREATED:20240306T143529Z
LAST-MODIFIED:20250122T102003Z
UID:7327-1760626800-1760889600@www.amiemignatti.com
SUMMARY:Folge dem Ruf Deines Lebens: Initiation Retreat in Nature
DESCRIPTION:Was verlangt das Leben gerade von dir? \nIn welche Richtung geht der nächste Entwicklungsschritt in dir und deinem Leben? \nWas brauchst du\, um dies zu erreichen? \nIm Laufe unseres Lebens durchlaufen wir verschiedene Phasen und begegnen verschiedenen Teilen von uns selbst. Jede Phase bietet uns die Möglichkeit zu lernen und zu wachsen\, uns weiter zu entwickeln als zuvor und neues\, unerforschtes Terrain zu betreten. Diese Schritte erfordern\, dass wir unseren Mut\, unsere Neugier und unsere Bereitschaft zur Veränderung aufbringen und uns selbst dazu verpflichten\, einen neuen Weg zu beschreiten. \nWenn wir uns in diesen Phasen befinden\, ist es wichtig\, dass wir uns eine Auszeit nehmen\, weg von unserem Alltag\, um in einen Raum zu treten\, der uns den Weg nach vorne zeigt. Einen Raum\, in dem wir wirklich auf uns selbst und unser Herz hören können. Einen Raum\, der sicher ist\, der uns Halt gibt und der für uns geschaffen wurde\, damit wir die Arbeit tun können\, um die wir gebeten werden. \nNimm zusammen mit Arthur Dorsch und mir an einem 3\,5-tägigen naturbasierten Seminar teil\, das dir den Raum bietet\, dich selbst zu erforschen und auf dich selbst zu hören\, und zwar in einer natürlichen Umgebung\, damit du dich mit deinem Leben und deinem Herzen verbinden und deinen inneren Kompass neu ausrichten kannst. \nDieses Seminar ist für alle\, die: \n\nKlarheit für eine bestimmte Lebenssituation benötigen\nsich nicht sicher sind\, was der nächste Schritt in ihrem Leben ist\nwissen\, was der nächste Schritt ist\, aber davor zurückschrecken\, ihn zu tun\nMut für die nächste Phase aufbringen müssen\nin denselben Mustern/Beziehungen/Gewohnheiten feststecken\nnicht glauben\, dass sie die notwendigen/gewünschten Veränderungen vornehmen können\n\nWas du erhältst: \n\nZeit und Raum\, um dir selbst ohne Ablenkungen zuzuhören\nEine tiefere Verbindung zu dir selbst und zu deinem Leben\, wie es ist – physisch\, emotional und spirituell\nCoaches\, die dich dabei unterstützen\, dich selbst und deinem Leben zu öffnen\nEine unterstützende Gruppe und Partner-Austausch\nEinen ruhigen und privaten Naturraum\, mit dem und in dem du arbeiten kannst\nEin Initiationsabend\, eine Übernachtung und ein Morgen im Wald\, um mit den tieferen Teilen deiner selbst und der Natur in Kontakt zu kommen – ein Raum\, um zuzuhören\, zu fühlen und Antworten auf deine Fragen zu erhalten\nIndividuelles\, fokussiertes und klares Feedback zu deinen Erfahrungen von zwei Coaches\nKlare\, konkrete Schritte\, die du für diese nächste Lebensphase unternehmen wirst\n\n19 % MwSt. sind im Preis inbegriffen. \nUnterkünfte\, die im Preis inbegriffen sind: eigenes Zelt oder Bus\, draußen unter den Sternen oder in einer Scheune. Es steht ein Bauwagen zur Verfügung\, für den eine zusätzliche Übernachtungsgebühr anfällt. \nEs gibt 3 vollwertige vegetarische Mahlzeiten pro Tag\, die liebevoll von einem vegetarischen Koch zubereitet werden. \n  \n  \n  \n 
URL:https://www.amiemignatti.com/event/folge-dem-ruf-deines-lebens-initiation-retreat-in-nature/
LOCATION:Inner Nature\, Höhenstadl 4\, Loitzendorf\, Bayern\, 94359\, Germany
CATEGORIES:community,nature,personal development,Retreats
ATTACH;FMTTYPE=image/png:https://www.amiemignatti.com/wp-content/uploads/2024/03/RETREAT-2025-ARTHUR.png
ORGANIZER;CN="Arthur Dorsch":MAILTO:mail@innernature.de
END:VEVENT
END:VCALENDAR