BEGIN:VCALENDAR
VERSION:2.0
PRODID:-//Amie Mignatti - ECPv6.15.20//NONSGML v1.0//EN
CALSCALE:GREGORIAN
METHOD:PUBLISH
X-ORIGINAL-URL:https://www.amiemignatti.com
X-WR-CALDESC:Events for Amie Mignatti
REFRESH-INTERVAL;VALUE=DURATION:PT1H
X-Robots-Tag:noindex
X-PUBLISHED-TTL:PT1H
BEGIN:VTIMEZONE
TZID:Europe/Berlin
BEGIN:DAYLIGHT
TZOFFSETFROM:+0100
TZOFFSETTO:+0200
TZNAME:CEST
DTSTART:20230326T010000
END:DAYLIGHT
BEGIN:STANDARD
TZOFFSETFROM:+0200
TZOFFSETTO:+0100
TZNAME:CET
DTSTART:20231029T010000
END:STANDARD
BEGIN:DAYLIGHT
TZOFFSETFROM:+0100
TZOFFSETTO:+0200
TZNAME:CEST
DTSTART:20240331T010000
END:DAYLIGHT
BEGIN:STANDARD
TZOFFSETFROM:+0200
TZOFFSETTO:+0100
TZNAME:CET
DTSTART:20241027T010000
END:STANDARD
BEGIN:DAYLIGHT
TZOFFSETFROM:+0100
TZOFFSETTO:+0200
TZNAME:CEST
DTSTART:20250330T010000
END:DAYLIGHT
BEGIN:STANDARD
TZOFFSETFROM:+0200
TZOFFSETTO:+0100
TZNAME:CET
DTSTART:20251026T010000
END:STANDARD
END:VTIMEZONE
BEGIN:VEVENT
DTSTART;TZID=Europe/Berlin:20241219T190000
DTEND;TZID=Europe/Berlin:20241219T213000
DTSTAMP:20260421T163749
CREATED:20240919T081533Z
LAST-MODIFIED:20240919T081731Z
UID:7734-1734634800-1734643800@www.amiemignatti.com
SUMMARY:Winter Solstice Outdoor Woman's Circle
DESCRIPTION:To honor the Winter Solstice\, Katharina Krenn and I are hosting a woman’s circle\, outdoors\, under the moon and stars and around the fire. This is a time to bring the year to a close\, to reflect\, and to celebrate the gifts that the darkness gives us. On December 21\, we have our darkest and longest night of the year\, after that the light slowly begins to return. It is said that the veil between the spirit world and our world is thin\, giving us a chance to connect with our ancestors and receive clear messages about our lives. \nCelebrating these seasonal markers brings us closer to nature and connects us more to our inner world. By doing this\, we can honor both the darkness and light that exists within ourselves and give both space. We can plant seeds for the coming year\, begin to release what we no longer wish to hold and come closer in contact to our own hearts in a beautiful and soft way. \nWe will celebrate this time with a circle of women\, sharing\, listening\, supporting and being. We’ll smudge\, sing\, step into a sacred and holy space\, pray\, laugh and give thanks for all the magic that exists in this world and in our lives. \nYou will get the exact location upon signing up (near Thalkirchen). \nHeld in English and German. \nThe initial cost is 15 EUR for materials and to secure your space\, you can pay us what you would like on top of this for our work.
URL:https://www.amiemignatti.com/event/winter-solstice-outdoor-womans-circle/
LOCATION:Isar
CATEGORIES:community,nature,personal development,women
ATTACH;FMTTYPE=image/jpeg:https://www.amiemignatti.com/wp-content/uploads/2024/09/BE660A20-59F7-456A-A0F1-C16DC21D0ECC.jpeg
END:VEVENT
END:VCALENDAR