BEGIN:VCALENDAR
VERSION:2.0
PRODID:-//Amie Mignatti - ECPv6.15.20//NONSGML v1.0//EN
CALSCALE:GREGORIAN
METHOD:PUBLISH
X-ORIGINAL-URL:https://www.amiemignatti.com
X-WR-CALDESC:Events for Amie Mignatti
REFRESH-INTERVAL;VALUE=DURATION:PT1H
X-Robots-Tag:noindex
X-PUBLISHED-TTL:PT1H
BEGIN:VTIMEZONE
TZID:Europe/Berlin
BEGIN:DAYLIGHT
TZOFFSETFROM:+0100
TZOFFSETTO:+0200
TZNAME:CEST
DTSTART:20250330T010000
END:DAYLIGHT
BEGIN:STANDARD
TZOFFSETFROM:+0200
TZOFFSETTO:+0100
TZNAME:CET
DTSTART:20251026T010000
END:STANDARD
BEGIN:DAYLIGHT
TZOFFSETFROM:+0100
TZOFFSETTO:+0200
TZNAME:CEST
DTSTART:20260329T010000
END:DAYLIGHT
BEGIN:STANDARD
TZOFFSETFROM:+0200
TZOFFSETTO:+0100
TZNAME:CET
DTSTART:20261025T010000
END:STANDARD
BEGIN:DAYLIGHT
TZOFFSETFROM:+0100
TZOFFSETTO:+0200
TZNAME:CEST
DTSTART:20270328T010000
END:DAYLIGHT
BEGIN:STANDARD
TZOFFSETFROM:+0200
TZOFFSETTO:+0100
TZNAME:CET
DTSTART:20271031T010000
END:STANDARD
END:VTIMEZONE
BEGIN:VEVENT
DTSTART;TZID=Europe/Berlin:20261008T140000
DTEND;TZID=Europe/Berlin:20261011T140000
DTSTAMP:20260422T030028
CREATED:20251112T102426Z
LAST-MODIFIED:20251125T124106Z
UID:8320-1791468000-1791727200@www.amiemignatti.com
SUMMARY:Roots and Embers
DESCRIPTION:Das ist ein dreieinhalbtägiger Retreat nur für Frauen\, komplett in der Natur. Wir kochen am Lagerfeuer\, verbringen die Tage draußen im Wald\, zusammen und alleine\, kreativ\, in Stille und in Verbindung mit deinem Herzen. \nWas flüstert dir dein Herz zu? In unserem Alltag leben wir in unseren Köpfen – wir organisieren\, arbeiten\, erledigen Dinge. Aber wenn wir innehalten und uns Zeit für die Natur nehmen\, können wir hören\, was unter dem Lärm liegt. \nDies ist eine Gelegenheit für dich\, dir eine Auszeit zu nehmen und deinem Wesen\, deinen Träumen und den Entscheidungen\, die getroffen werden müssen\, näher zu kommen. In welche Richtung möchtest du dein Leben lenken? Was hält dich zurück? Was leitet dich? \nWir machen Kunst in der Natur\, arbeiten mit Kräutern für Frauen\, tauschen Geschichten aus\, zeigen dir\, wie man Feuer macht und vieles mehr. \nAnne Binnebößel und ich\, beide Wildnispädagoginnen und Naturritual-Guides\, haben einen Raum geschaffen\, in dem du dich selbst und die Natur erkunden kannst\, in einem sicheren Raum mit anderen Frauen. Wir werden draußen am Lagerfeuer kochen\, unter dem Sternenhimmel schlafen und unsere Herzen ein bisschen weiter öffnen\, um mehr von dem zu entdecken\, was darin steckt. \nFür diesen Retreat brauchst du deine eigene Outdoor-Ausrüstung. Bei schlechtem Wetter können wir ein Tipi nutzen. \n____________________________________ \nFrühbucher bis zum 23.3.26: 450 € \nDanach regulärer Preis von 500 € \nAlle Materialien\, Verpflegung und Unterkunft sind im Preis inbegriffen.
URL:https://www.amiemignatti.com/event/roots-and-embers/
LOCATION:Inner Nature\, Höhenstadl 4\, Loitzendorf\, Bayern\, 94359\, Germany
CATEGORIES:community,nature,personal development,Retreats,women
ATTACH;FMTTYPE=image/jpeg:https://www.amiemignatti.com/wp-content/uploads/2024/04/546B26FE-EA13-4156-BAD2-617386DAFC9C.jpeg
END:VEVENT
END:VCALENDAR